BEGIN:VCALENDAR
VERSION:2.0
PRODID:-//IBEW Local 212 - ECPv6.15.20//NONSGML v1.0//EN
CALSCALE:GREGORIAN
METHOD:PUBLISH
X-ORIGINAL-URL:https://local212.com
X-WR-CALDESC:Events for IBEW Local 212
REFRESH-INTERVAL;VALUE=DURATION:PT1H
X-Robots-Tag:noindex
X-PUBLISHED-TTL:PT1H
BEGIN:VTIMEZONE
TZID:America/New_York
BEGIN:DAYLIGHT
TZOFFSETFROM:-0500
TZOFFSETTO:-0400
TZNAME:EDT
DTSTART:20250309T070000
END:DAYLIGHT
BEGIN:STANDARD
TZOFFSETFROM:-0400
TZOFFSETTO:-0500
TZNAME:EST
DTSTART:20251102T060000
END:STANDARD
BEGIN:DAYLIGHT
TZOFFSETFROM:-0500
TZOFFSETTO:-0400
TZNAME:EDT
DTSTART:20260308T070000
END:DAYLIGHT
BEGIN:STANDARD
TZOFFSETFROM:-0400
TZOFFSETTO:-0500
TZNAME:EST
DTSTART:20261101T060000
END:STANDARD
BEGIN:DAYLIGHT
TZOFFSETFROM:-0500
TZOFFSETTO:-0400
TZNAME:EDT
DTSTART:20270314T070000
END:DAYLIGHT
BEGIN:STANDARD
TZOFFSETFROM:-0400
TZOFFSETTO:-0500
TZNAME:EST
DTSTART:20271107T060000
END:STANDARD
END:VTIMEZONE
BEGIN:VEVENT
DTSTART;TZID=America/New_York:20260228T183000
DTEND;TZID=America/New_York:20260228T210000
DTSTAMP:20260425T105116
CREATED:20260226T170241Z
LAST-MODIFIED:20260226T170241Z
UID:6338-1772303400-1772312400@local212.com
SUMMARY:Local 212 Hockey Night!
DESCRIPTION:Local 212 Hockey Night!\nFor more information check the website at www.local212.com
URL:https://local212.com/event/local-212-hockey-night/
ATTACH;FMTTYPE=image/png:https://local212.com/wp-content/uploads/2025/12/cyclones-2025.png
END:VEVENT
BEGIN:VEVENT
DTSTART;TZID=America/New_York:20260303T193000
DTEND;TZID=America/New_York:20260303T230000
DTSTAMP:20260425T105116
CREATED:20250116T132221Z
LAST-MODIFIED:20260226T163349Z
UID:5651-1772566200-1772578800@local212.com
SUMMARY:Union Meeting
DESCRIPTION:
URL:https://local212.com/event/union-meeting-2/
LOCATION:IBEW Local 212 Union Hall\, 212 Crowne Point Place\, Cincinnati\, OH\, 45241\, United States
ATTACH;FMTTYPE=image/png:https://local212.com/wp-content/uploads/2024/10/9-3-e1737980626898.png
END:VEVENT
BEGIN:VEVENT
DTSTART;TZID=America/New_York:20260307T170000
DTEND;TZID=America/New_York:20260307T210000
DTSTAMP:20260425T105116
CREATED:20260226T164707Z
LAST-MODIFIED:20260226T165917Z
UID:6331-1772902800-1772917200@local212.com
SUMMARY:Euchre & Chili Cookoff!
DESCRIPTION:Euchre & Chili Cookoff!
URL:https://local212.com/event/euchre-chili-cookoff/
LOCATION:IBEW Local 212 Union Hall\, 212 Crowne Point Place\, Cincinnati\, OH\, 45241\, United States
ATTACH;FMTTYPE=image/png:https://local212.com/wp-content/uploads/2026/02/chili26.png
END:VEVENT
BEGIN:VEVENT
DTSTART;TZID=America/New_York:20260311T080000
DTEND;TZID=America/New_York:20260311T150000
DTSTAMP:20260425T105116
CREATED:20241122T140724Z
LAST-MODIFIED:20260226T163041Z
UID:5532-1773216000-1773241200@local212.com
SUMMARY:IBEW Local 212 Counsel
DESCRIPTION:Contact Bennett to setup an appointment today.\n513-878-1799
URL:https://local212.com/event/ibew-local-212-counsel-2/
LOCATION:IBEW Local 212 Union Hall\, 212 Crowne Point Place\, Cincinnati\, OH\, 45241\, United States
ATTACH;FMTTYPE=image/webp:https://local212.com/wp-content/uploads/2024/05/BPA_logo.webp
ORGANIZER;CN="Bennett P. Allen%2C LLC":MAILTO:ballen@econjustice.com
END:VEVENT
BEGIN:VEVENT
DTSTART;TZID=America/New_York:20260312T080000
DTEND;TZID=America/New_York:20260312T150000
DTSTAMP:20260425T105116
CREATED:20241122T151121Z
LAST-MODIFIED:20260226T163108Z
UID:5547-1773302400-1773327600@local212.com
SUMMARY:IBEW Local 212 Counsel
DESCRIPTION:Contact Bennett to setup an appointment today.\n513-878-1799
URL:https://local212.com/event/ibew-local-212-counsel-3/
LOCATION:IBEW Local 212 Union Hall\, 212 Crowne Point Place\, Cincinnati\, OH\, 45241\, United States
ATTACH;FMTTYPE=image/webp:https://local212.com/wp-content/uploads/2024/05/BPA_logo.webp
ORGANIZER;CN="Bennett P. Allen%2C LLC":MAILTO:ballen@econjustice.com
END:VEVENT
BEGIN:VEVENT
DTSTART;TZID=America/New_York:20260314T110000
DTEND;TZID=America/New_York:20260314T143000
DTSTAMP:20260425T105116
CREATED:20260226T164156Z
LAST-MODIFIED:20260226T164156Z
UID:6328-1773486000-1773498600@local212.com
SUMMARY:St. Patrick's Day Parade
DESCRIPTION:St. Patrick’s Day Parade \nCall the Hall for details 513-559-0200
URL:https://local212.com/event/st-patricks-day-parade/
ATTACH;FMTTYPE=image/png:https://local212.com/wp-content/uploads/2026/02/2026-spd.png
END:VEVENT
BEGIN:VEVENT
DTSTART;TZID=America/New_York:20260317T193000
DTEND;TZID=America/New_York:20260317T230000
DTSTAMP:20260425T105116
CREATED:20250116T132455Z
LAST-MODIFIED:20260226T163429Z
UID:5658-1773775800-1773788400@local212.com
SUMMARY:Union Meeting
DESCRIPTION:
URL:https://local212.com/event/union-meeting-3/
LOCATION:IBEW Local 212 Union Hall\, 212 Crowne Point Place\, Cincinnati\, OH\, 45241\, United States
ATTACH;FMTTYPE=image/png:https://local212.com/wp-content/uploads/2024/10/9-3-e1737980626898.png
END:VEVENT
BEGIN:VEVENT
DTSTART;TZID=America/New_York:20260319T080000
DTEND;TZID=America/New_York:20260319T150000
DTSTAMP:20260425T105116
CREATED:20241122T140447Z
LAST-MODIFIED:20260226T163155Z
UID:5529-1773907200-1773932400@local212.com
SUMMARY:IBEW Local 212 Counsel
DESCRIPTION:Contact Bennett to setup an appointment today.\n513-878-1799
URL:https://local212.com/event/ibew-local-212-counsel/
LOCATION:IBEW Local 212 Union Hall\, 212 Crowne Point Place\, Cincinnati\, OH\, 45241\, United States
ATTACH;FMTTYPE=image/webp:https://local212.com/wp-content/uploads/2024/05/BPA_logo.webp
ORGANIZER;CN="Bennett P. Allen%2C LLC":MAILTO:ballen@econjustice.com
END:VEVENT
END:VCALENDAR